{
 "currentVersion": 10.91,
 "serviceDescription": "Imagen entregada por el IGAC del Bolo San Isidro de 2016",
 "name": "Imagenes/bolo_san_isidro_2016",
 "description": "Imagen entregada por el IGAC del Bolo San Isidro de 2016",
 "extent": {
  "xmin": 1080016.4291447273,
  "ymin": 872022.6589879933,
  "xmax": 1085030.9291447273,
  "ymax": 877050.6589879933,
  "spatialReference": {
   "wkid": 3115,
   "latestWkid": 3115
  }
 },
 "initialExtent": {
  "xmin": 1080016.4291447273,
  "ymin": 872022.6589879933,
  "xmax": 1085030.9291447273,
  "ymax": 877050.6589879933,
  "spatialReference": {
   "wkid": 3115,
   "latestWkid": 3115
  }
 },
 "fullExtent": {
  "xmin": 1080016.4291447273,
  "ymin": 872022.6589879933,
  "xmax": 1085030.9291447273,
  "ymax": 877050.6589879933,
  "spatialReference": {
   "wkid": 3115,
   "latestWkid": 3115
  }
 },
 "pixelSizeX": 0.5,
 "pixelSizeY": 0.5,
 "bandCount": 8,
 "pixelType": "U16",
 "minPixelSize": 0,
 "maxPixelSize": 0,
 "copyrightText": "",
 "serviceDataType": "esriImageServiceDataTypeGeneric",
 "minValues": [
  1,
  1,
  1,
  1,
  1,
  1,
  1,
  1
 ],
 "maxValues": [
  2973,
  2973,
  3583,
  4761,
  4761,
  4761,
  4761,
  6654
 ],
 "meanValues": [
  325.96449160661155,
  264.8749761875702,
  269.3632818220306,
  267.97722205426584,
  238.1835558681321,
  271.03032177881033,
  298.43741215453946,
  344.60006138465207
 ],
 "stdvValues": [
  32.86365401127249,
  70.07871188117853,
  66.92782599430038,
  71.74161072164763,
  90.90016015429363,
  114.80890163417142,
  132.36348578353386,
  181.86167877785897
 ],
 "objectIdField": "",
 "fields": [],
 "capabilities": "Image,Metadata,Mensuration",
 "defaultMosaicMethod": "Center",
 "allowedMosaicMethods": "",
 "sortField": "",
 "sortValue": null,
 "sortAscending": true,
 "mosaicOperator": "First",
 "defaultCompressionQuality": 75,
 "defaultResamplingMethod": "Bilinear",
 "maxImageHeight": 4100,
 "maxImageWidth": 15000,
 "allowRasterFunction": true,
 "rasterFunctionInfos": [
  {
   "name": "None",
   "description": "",
   "help": ""
  }
 ],
 "rasterTypeInfos": [
  {
   "name": "Raster Dataset",
   "description": "Supports all ArcGIS Raster Datasets",
   "help": ""
  }
 ],
 "mensurationCapabilities": "Basic,Base-Top Shadow Height",
 "hasHistograms": true,
 "hasColormap": false,
 "hasRasterAttributeTable": false,
 "minScale": 0,
 "maxScale": 0,
 "exportTilesAllowed": false,
 "hasMultidimensions": false,
 "supportsStatistics": false,
 "supportsAdvancedQueries": false,
 "editFieldsInfo": null,
 "ownershipBasedAccessControlForRasters": null,
 "allowComputeTiePoints": false,
 "useStandardizedQueries": true,
 "advancedQueryCapabilities": {
  "useStandardizedQueries": true,
  "supportsStatistics": false,
  "supportsOrderBy": false,
  "supportsDistinct": false,
  "supportsPagination": false
 },
 "spatialReference": {
  "wkid": 3115,
  "latestWkid": 3115
 }
}
