{
 "currentVersion": 10.91,
 "serviceDescription": "Imagen entregada por el IGAC de La Buitrera de 2016",
 "name": "Imagenes/la_buitrera_2016",
 "description": "Imagen entregada por el IGAC de La Buitrera de 2016",
 "extent": {
  "xmin": 1094649.2829692564,
  "ymin": 874681.1315960633,
  "xmax": 1099569.7829692564,
  "ymax": 880074.1315960633,
  "spatialReference": {
   "wkid": 3115,
   "latestWkid": 3115
  }
 },
 "initialExtent": {
  "xmin": 1094649.2829692564,
  "ymin": 874681.1315960633,
  "xmax": 1099569.7829692564,
  "ymax": 880074.1315960633,
  "spatialReference": {
   "wkid": 3115,
   "latestWkid": 3115
  }
 },
 "fullExtent": {
  "xmin": 1094649.2829692564,
  "ymin": 874681.1315960633,
  "xmax": 1099569.7829692564,
  "ymax": 880074.1315960633,
  "spatialReference": {
   "wkid": 3115,
   "latestWkid": 3115
  }
 },
 "pixelSizeX": 0.5,
 "pixelSizeY": 0.5,
 "bandCount": 8,
 "pixelType": "U16",
 "minPixelSize": 0,
 "maxPixelSize": 0,
 "copyrightText": "",
 "serviceDataType": "esriImageServiceDataTypeGeneric",
 "minValues": [
  1,
  1,
  1,
  1,
  1,
  1,
  1,
  1
 ],
 "maxValues": [
  2611,
  2611,
  3407,
  4033,
  4033,
  4033,
  4033,
  4269
 ],
 "meanValues": [
  398.12282646835814,
  328.41795134643894,
  330.82520999705395,
  330.6760692011794,
  296.66082165006264,
  321.1423066062763,
  329.4113153570929,
  360.0359257663265
 ],
 "stdvValues": [
  228.57687495862885,
  223.346301636079,
  244.61145249404376,
  264.55462253654173,
  257.1529350832546,
  267.7910400119621,
  258.9238993722881,
  277.0232419934164
 ],
 "objectIdField": "",
 "fields": [],
 "capabilities": "Image,Metadata,Mensuration",
 "defaultMosaicMethod": "Center",
 "allowedMosaicMethods": "",
 "sortField": "",
 "sortValue": null,
 "sortAscending": true,
 "mosaicOperator": "First",
 "defaultCompressionQuality": 75,
 "defaultResamplingMethod": "Bilinear",
 "maxImageHeight": 4100,
 "maxImageWidth": 15000,
 "allowRasterFunction": true,
 "rasterFunctionInfos": [
  {
   "name": "None",
   "description": "",
   "help": ""
  }
 ],
 "rasterTypeInfos": [
  {
   "name": "Raster Dataset",
   "description": "Supports all ArcGIS Raster Datasets",
   "help": ""
  }
 ],
 "mensurationCapabilities": "Basic,Base-Top Shadow Height",
 "hasHistograms": true,
 "hasColormap": false,
 "hasRasterAttributeTable": false,
 "minScale": 0,
 "maxScale": 0,
 "exportTilesAllowed": false,
 "hasMultidimensions": false,
 "supportsStatistics": false,
 "supportsAdvancedQueries": false,
 "editFieldsInfo": null,
 "ownershipBasedAccessControlForRasters": null,
 "allowComputeTiePoints": false,
 "useStandardizedQueries": true,
 "advancedQueryCapabilities": {
  "useStandardizedQueries": true,
  "supportsStatistics": false,
  "supportsOrderBy": false,
  "supportsDistinct": false,
  "supportsPagination": false
 },
 "spatialReference": {
  "wkid": 3115,
  "latestWkid": 3115
 }
}
