{
 "currentVersion": 10.91,
 "serviceDescription": "Imagen entregada por el IGAC de Rozo de 2016",
 "name": "Imagenes/rozo_2016",
 "description": "Imagen entregada por el IGAC de Rozo de 2016",
 "extent": {
  "xmin": 1070332.1882460075,
  "ymin": 888632.3527670865,
  "xmax": 1078631.6882460075,
  "ymax": 894182.3527670865,
  "spatialReference": {
   "wkid": 3115,
   "latestWkid": 3115
  }
 },
 "initialExtent": {
  "xmin": 1070332.1882460075,
  "ymin": 888632.3527670865,
  "xmax": 1078631.6882460075,
  "ymax": 894182.3527670865,
  "spatialReference": {
   "wkid": 3115,
   "latestWkid": 3115
  }
 },
 "fullExtent": {
  "xmin": 1070332.1882460075,
  "ymin": 888632.3527670865,
  "xmax": 1078631.6882460075,
  "ymax": 894182.3527670865,
  "spatialReference": {
   "wkid": 3115,
   "latestWkid": 3115
  }
 },
 "pixelSizeX": 0.5,
 "pixelSizeY": 0.5,
 "bandCount": 8,
 "pixelType": "U16",
 "minPixelSize": 0,
 "maxPixelSize": 0,
 "copyrightText": "",
 "serviceDataType": "esriImageServiceDataTypeGeneric",
 "minValues": [
  1,
  1,
  1,
  1,
  1,
  1,
  1,
  1
 ],
 "maxValues": [
  3502,
  3502,
  5535,
  5535,
  5535,
  5535,
  5535,
  7761
 ],
 "meanValues": [
  334.3102209423016,
  272.19696052296814,
  278.1314499741881,
  278.2170894887715,
  248.8197161876131,
  280.8207762415323,
  306.6502409147726,
  351.5531571816969
 ],
 "stdvValues": [
  43.148264870773474,
  76.40624187038196,
  75.82556284482676,
  82.76454385254091,
  98.57090477697137,
  119.4548401369076,
  135.54327801757262,
  183.8978152948785
 ],
 "objectIdField": "",
 "fields": [],
 "capabilities": "Image,Metadata,Mensuration",
 "defaultMosaicMethod": "Center",
 "allowedMosaicMethods": "",
 "sortField": "",
 "sortValue": null,
 "sortAscending": true,
 "mosaicOperator": "First",
 "defaultCompressionQuality": 75,
 "defaultResamplingMethod": "Bilinear",
 "maxImageHeight": 4100,
 "maxImageWidth": 15000,
 "allowRasterFunction": true,
 "rasterFunctionInfos": [
  {
   "name": "None",
   "description": "",
   "help": ""
  }
 ],
 "rasterTypeInfos": [
  {
   "name": "Raster Dataset",
   "description": "Supports all ArcGIS Raster Datasets",
   "help": ""
  }
 ],
 "mensurationCapabilities": "Basic,Base-Top Shadow Height",
 "hasHistograms": true,
 "hasColormap": false,
 "hasRasterAttributeTable": false,
 "minScale": 0,
 "maxScale": 0,
 "exportTilesAllowed": false,
 "hasMultidimensions": false,
 "supportsStatistics": false,
 "supportsAdvancedQueries": false,
 "editFieldsInfo": null,
 "ownershipBasedAccessControlForRasters": null,
 "allowComputeTiePoints": false,
 "useStandardizedQueries": true,
 "advancedQueryCapabilities": {
  "useStandardizedQueries": true,
  "supportsStatistics": false,
  "supportsOrderBy": false,
  "supportsDistinct": false,
  "supportsPagination": false
 },
 "spatialReference": {
  "wkid": 3115,
  "latestWkid": 3115
 }
}
