View In:
ArcGIS JavaScript
ArcGIS Online Map Viewer
ArcGIS Earth
ArcMap
View Footprint In:
ArcGIS Online Map Viewer
Service Description: Imagen entregada por el IGAC del Bolo San Isidro de 2016
Name: Imagenes/bolo_san_isidro_2016
Description: Imagen entregada por el IGAC del Bolo San Isidro de 2016
Single Fused Map Cache: false
Extent:
XMin: 1080016.4291447273
YMin: 872022.6589879933
XMax: 1085030.9291447273
YMax: 877050.6589879933
Spatial Reference: 3115
(3115)
Initial Extent:
XMin: 1080016.4291447273
YMin: 872022.6589879933
XMax: 1085030.9291447273
YMax: 877050.6589879933
Spatial Reference: 3115
(3115)
Full Extent:
XMin: 1080016.4291447273
YMin: 872022.6589879933
XMax: 1085030.9291447273
YMax: 877050.6589879933
Spatial Reference: 3115
(3115)
Pixel Size X: 0.5
Pixel Size Y: 0.5
Band Count: 8
Pixel Type: U16
RasterFunction Infos: {"rasterFunctionInfos": [{
"name": "None",
"description": "",
"help": ""
}]}
Mensuration Capabilities: Basic,Base-Top Shadow Height
Has Histograms: true
Has Colormap: false
Has Multi Dimensions : false
Rendering Rule:
Min Scale: 0
Max Scale: 0
Copyright Text:
Service Data Type: esriImageServiceDataTypeGeneric
Min Values: 1, 1, 1, 1, 1, 1, 1, 1
Max Values: 2973, 2973, 3583, 4761, 4761, 4761, 4761, 6654
Mean Values: 325.96449160661155, 264.8749761875702, 269.3632818220306, 267.97722205426584, 238.1835558681321, 271.03032177881033, 298.43741215453946, 344.60006138465207
Standard Deviation Values: 32.86365401127249, 70.07871188117853, 66.92782599430038, 71.74161072164763, 90.90016015429363, 114.80890163417142, 132.36348578353386, 181.86167877785897
Object ID Field:
Fields:
None
Default Mosaic Method: Center
Allowed Mosaic Methods:
SortField:
SortValue: null
Mosaic Operator: First
Default Compression Quality: 75
Default Resampling Method: Bilinear
Max Record Count: null
Max Image Height: 4100
Max Image Width: 15000
Max Download Image Count: null
Max Mosaic Image Count: null
Allow Raster Function: true
Allow Copy: null
Allow Analysis: null
Allow Compute TiePoints: false
Supports Statistics: false
Supports Advanced Queries: false
Use StandardizedQueries: true
Raster Type Infos:
Name: Raster Dataset
Description: Supports all ArcGIS Raster Datasets
Help:
Has Raster Attribute Table: false
Edit Fields Info: null
Ownership Based AccessControl For Rasters: null
Child Resources:
Info
Histograms
Key Properties
Legend
Raster Function Infos
Supported Operations:
Export Image
Identify
Measure
Compute Histograms
Compute Statistics Histograms
Get Samples
Compute Class Statistics
Query Boundary
Compute Pixel Location
Compute Angles
Validate
Project