View In:
ArcGIS JavaScript
ArcGIS Online Map Viewer
ArcGIS Earth
ArcMap
View Footprint In:
ArcGIS Online Map Viewer
Service Description: Imagen entregada por el IGAC de La Buitrera de 2016
Name: Imagenes/la_buitrera_2016
Description: Imagen entregada por el IGAC de La Buitrera de 2016
Single Fused Map Cache: false
Extent:
XMin: 1094649.2829692564
YMin: 874681.1315960633
XMax: 1099569.7829692564
YMax: 880074.1315960633
Spatial Reference: 3115
(3115)
Initial Extent:
XMin: 1094649.2829692564
YMin: 874681.1315960633
XMax: 1099569.7829692564
YMax: 880074.1315960633
Spatial Reference: 3115
(3115)
Full Extent:
XMin: 1094649.2829692564
YMin: 874681.1315960633
XMax: 1099569.7829692564
YMax: 880074.1315960633
Spatial Reference: 3115
(3115)
Pixel Size X: 0.5
Pixel Size Y: 0.5
Band Count: 8
Pixel Type: U16
RasterFunction Infos: {"rasterFunctionInfos": [{
"name": "None",
"description": "",
"help": ""
}]}
Mensuration Capabilities: Basic,Base-Top Shadow Height
Has Histograms: true
Has Colormap: false
Has Multi Dimensions : false
Rendering Rule:
Min Scale: 0
Max Scale: 0
Copyright Text:
Service Data Type: esriImageServiceDataTypeGeneric
Min Values: 1, 1, 1, 1, 1, 1, 1, 1
Max Values: 2611, 2611, 3407, 4033, 4033, 4033, 4033, 4269
Mean Values: 398.12282646835814, 328.41795134643894, 330.82520999705395, 330.6760692011794, 296.66082165006264, 321.1423066062763, 329.4113153570929, 360.0359257663265
Standard Deviation Values: 228.57687495862885, 223.346301636079, 244.61145249404376, 264.55462253654173, 257.1529350832546, 267.7910400119621, 258.9238993722881, 277.0232419934164
Object ID Field:
Fields:
None
Default Mosaic Method: Center
Allowed Mosaic Methods:
SortField:
SortValue: null
Mosaic Operator: First
Default Compression Quality: 75
Default Resampling Method: Bilinear
Max Record Count: null
Max Image Height: 4100
Max Image Width: 15000
Max Download Image Count: null
Max Mosaic Image Count: null
Allow Raster Function: true
Allow Copy: null
Allow Analysis: null
Allow Compute TiePoints: false
Supports Statistics: false
Supports Advanced Queries: false
Use StandardizedQueries: true
Raster Type Infos:
Name: Raster Dataset
Description: Supports all ArcGIS Raster Datasets
Help:
Has Raster Attribute Table: false
Edit Fields Info: null
Ownership Based AccessControl For Rasters: null
Child Resources:
Info
Histograms
Key Properties
Legend
Raster Function Infos
Supported Operations:
Export Image
Identify
Measure
Compute Histograms
Compute Statistics Histograms
Get Samples
Compute Class Statistics
Query Boundary
Compute Pixel Location
Compute Angles
Validate
Project